BEGIN:VCALENDAR
VERSION:2.0
PRODID:-//Plone.org//NONSGML plone.app.event//EN
X-WR-TIMEZONE:Europe/Madrid
BEGIN:VEVENT
SUMMARY:Hora del conte: &OpenCurlyDoubleQuote;Contes solidaris&CloseCurlyDoubleQuote;
DTSTART;TZID=Europe/Madrid;VALUE=DATE-TIME:20110121T180000
DTEND;TZID=Europe/Madrid;VALUE=DATE-TIME:20110121T190000
DTSTAMP;VALUE=DATE-TIME:20260424T230419Z
UID:5499095bc81b52b7b97d7fdd01392f52
CREATED;VALUE=DATE-TIME:20110121T000000Z
LOCATION:Biblioteca Can Milans
ORGANIZER:Biblioteca Can Milans
DESCRIPTION:càrrec de l´Associació Llibre Obert.
URL:https://caldetes.cat/document.php?id=976
END:VEVENT
END:VCALENDAR