BEGIN:VCALENDAR
VERSION:2.0
PRODID:-//Plone.org//NONSGML plone.app.event//EN
X-WR-TIMEZONE:Europe/Madrid
BEGIN:VEVENT
SUMMARY:XVII Trobada Entitats de Recerca Local i Comarcal  Caldes d'Estrac
DTSTART;TZID=Europe/Madrid;VALUE=DATE-TIME:20240525T083000
DTEND;TZID=Europe/Madrid;VALUE=DATE-TIME:20240525T093000
DTSTAMP;VALUE=DATE-TIME:20260421T024925Z
UID:d1debb7b939edffbe745d0539931e02f
CREATED;VALUE=DATE-TIME:20240525T000000Z
LOCATION:Sala Cultural - 1r pis de l'Ajuntament de Caldes d'Estrac, Pl. de la Vila s/n
URL:https://caldetes.cat/document.php?id=9789
END:VEVENT
END:VCALENDAR