BEGIN:VCALENDAR
VERSION:2.0
PRODID:-//Plone.org//NONSGML plone.app.event//EN
X-WR-TIMEZONE:Europe/Madrid
BEGIN:VEVENT
SUMMARY:Xerrada per a famílies: "Et veig, et sento, t'escolto: el poder de creure en els infants".
DTSTART;TZID=Europe/Madrid;VALUE=DATE-TIME:20240528T180000
DTEND;TZID=Europe/Madrid;VALUE=DATE-TIME:20240528T190000
DTSTAMP;VALUE=DATE-TIME:20260421T043126Z
UID:acf5be7567fabadda3d333602cd05e08
CREATED;VALUE=DATE-TIME:20240528T000000Z
CATEGORIES:Cursos
LOCATION:XERRADA EN FORMAT VIRTUAL ONLINE
COMMENT:Preu: Gratuït
DESCRIPTION:28 de maig - Horari: 18h a 20h. Format online. Uns dies abans t'enviarem el link per connectar-te. Dirigida a famílies d'infants de 6-12 anys.
URL:https://caldetes.cat/document.php?id=9863
END:VEVENT
END:VCALENDAR