BEGIN:VCALENDAR
VERSION:2.0
PRODID:-//Plone.org//NONSGML plone.app.event//EN
X-WR-TIMEZONE:Europe/Madrid
BEGIN:VEVENT
SUMMARY:Presentació del llibre 'Cor trencat. Mort i vida de Carles Sabater'
DTSTART;TZID=Europe/Madrid;VALUE=DATE-TIME:20240421T123000
DTEND;TZID=Europe/Madrid;VALUE=DATE-TIME:20240421T133000
DTSTAMP;VALUE=DATE-TIME:20260422T100242Z
UID:32951584146dffd8ec5f0cb51fa48991
CREATED;VALUE=DATE-TIME:20240421T000000Z
CATEGORIES:Literatura
LOCATION:Fundació Palau - La Riera, 54
ORGANIZER:Fundació Palau i Associació cultural Camí Ral 39
COMMENT:Preu: Gratuït
URL:https://caldetes.cat/document.php?id=9900
END:VEVENT
END:VCALENDAR