BEGIN:VCALENDAR
VERSION:2.0
PRODID:-//Plone.org//NONSGML plone.app.event//EN
X-WR-TIMEZONE:Europe/Madrid
BEGIN:VEVENT
SUMMARY:TERTÚLIES sobre el procés de vida. A càrrec de Patricia Rivera Lanuza
DTSTART;TZID=Europe/Madrid;VALUE=DATE-TIME:20240405T180000
DTEND;TZID=Europe/Madrid;VALUE=DATE-TIME:20240405T190000
DTSTAMP;VALUE=DATE-TIME:20260421T201824Z
UID:0041744aa8b3f304016c18ca245e6887
CREATED;VALUE=DATE-TIME:20240405T000000Z
CATEGORIES:Conferència
LOCATION:Biblioteca Can Milans - C/ Esglèsia, 6
ORGANIZER:Biblioteca Can Milans i Ajuntament de Caldes d'Estrac
COMMENT:Preu: Gratuït
DESCRIPTION:Acompanyant en processos de canvi i pèrdues. Associació Surgit Vita.
URL:https://caldetes.cat/document.php?id=9902
END:VEVENT
END:VCALENDAR