BEGIN:VCALENDAR
VERSION:2.0
PRODID:-//Plone.org//NONSGML plone.app.event//EN
X-WR-TIMEZONE:Europe/Madrid
BEGIN:VEVENT
SUMMARY:Paraules sentides per Sant Jordi. Lectura en veu alta a les residències.
DTSTART;TZID=Europe/Madrid;VALUE=DATE-TIME:20240322T163000
DTEND;TZID=Europe/Madrid;VALUE=DATE-TIME:20240322T173000
DTSTAMP;VALUE=DATE-TIME:20260424T034049Z
UID:a5f23e5106a9304b19d515d5bb161073
CREATED;VALUE=DATE-TIME:20240322T000000Z
CATEGORIES:Mostra,Literatura
LOCATION:Simultàniament a les residències: Bellavista, Santa Berta i Floridadorada.
URL:https://caldetes.cat/document.php?id=9906
END:VEVENT
END:VCALENDAR