BEGIN:VCALENDAR
VERSION:2.0
PRODID:-//Plone.org//NONSGML plone.app.event//EN
X-WR-TIMEZONE:Europe/Madrid
BEGIN:VEVENT
SUMMARY:HORA DEL CONTE. Contes jugats. A càrrec de Ricard Ferran,  Ulldistret
DTSTART;TZID=Europe/Madrid;VALUE=DATE-TIME:20240503T180000
DTEND;TZID=Europe/Madrid;VALUE=DATE-TIME:20240503T190000
DTSTAMP;VALUE=DATE-TIME:20260421T024748Z
UID:29475363fa7c79ce65ca54a420d30cd9
CREATED;VALUE=DATE-TIME:20240503T000000Z
CATEGORIES:Literatura,Infantils
LOCATION:Biblioteca Can Milans - C/ Esglèsia, 6
ORGANIZER:Biblioteca Can Milans i Ajuntament de Caldes d'Estrac
COMMENT:Preu: Gratuït
URL:https://caldetes.cat/document.php?id=9908
END:VEVENT
END:VCALENDAR