BEGIN:VCALENDAR
VERSION:2.0
PRODID:-//Plone.org//NONSGML plone.app.event//EN
X-WR-TIMEZONE:Europe/Madrid
BEGIN:VEVENT
SUMMARY:LLETRES EN VIU. presentació del llibre El boig dels ocells, amb l´autora Care Santos.
DTSTART;TZID=Europe/Madrid;VALUE=DATE-TIME:20240510T193000
DTEND;TZID=Europe/Madrid;VALUE=DATE-TIME:20240510T203000
DTSTAMP;VALUE=DATE-TIME:20260422T080845Z
UID:5393f668a75f7438466becf854c6ed27
CREATED;VALUE=DATE-TIME:20240510T000000Z
CATEGORIES:Literatura
LOCATION:Biblioteca Can Milans - C/ Esglèsia, 6
ORGANIZER:Biblioteca Can Milans, Ajuntament de Caldes d'Estrac i Institució de le Lletres Catalanes
COMMENT:Preu: Gratuït
DESCRIPTION:L´acompanya, Montse Barderi.
URL:https://caldetes.cat/document.php?id=9910
END:VEVENT
END:VCALENDAR