BEGIN:VCALENDAR
VERSION:2.0
PRODID:-//Plone.org//NONSGML plone.app.event//EN
X-WR-TIMEZONE:Europe/Madrid
BEGIN:VEVENT
SUMMARY:CLUB DE LECTURA. 'Lolita' de Vladimir Nabokov.
DTSTART;TZID=Europe/Madrid;VALUE=DATE-TIME:20240511T110000
DTEND;TZID=Europe/Madrid;VALUE=DATE-TIME:20240511T120000
DTSTAMP;VALUE=DATE-TIME:20260421T060252Z
UID:3babc331a9d1c89f2681f0773b1ca049
CREATED;VALUE=DATE-TIME:20240511T000000Z
CATEGORIES:Literatura
LOCATION:Biblioteca Can Milans - C/ Esglèsia, 6
ORGANIZER:Biblioteca Can Milans i Ajuntament de Caldes d'Estrac
COMMENT:Preu: Gratuït
DESCRIPTION:Conductora: Èlia Portús
URL:https://caldetes.cat/document.php?id=9911
END:VEVENT
END:VCALENDAR