BEGIN:VCALENDAR
VERSION:2.0
PRODID:-//Plone.org//NONSGML plone.app.event//EN
X-WR-TIMEZONE:Europe/Madrid
BEGIN:VEVENT
SUMMARY:TERTÚLIES sobre el procés de vida. A càrrec de Patricia Rivera Lanuza.
DTSTART;TZID=Europe/Madrid;VALUE=DATE-TIME:20240517T180000
DTEND;TZID=Europe/Madrid;VALUE=DATE-TIME:20240517T190000
DTSTAMP;VALUE=DATE-TIME:20260421T024910Z
UID:a01fc2520881b57e5cc9878a0ef47ec2
CREATED;VALUE=DATE-TIME:20240517T000000Z
CATEGORIES:Conferència
LOCATION:Biblioteca Can Milans - C/ Esglèsia, 6
ORGANIZER:Biblioteca Can Milans i Ajuntament de Caldes d'Estrac
COMMENT:Preu: Gratuït
DESCRIPTION:Acompanyant en processos de canvi i pèrdues. Associació Surgit Vita.
URL:https://caldetes.cat/document.php?id=9914
END:VEVENT
END:VCALENDAR