BEGIN:VCALENDAR
VERSION:2.0
PRODID:-//Plone.org//NONSGML plone.app.event//EN
X-WR-TIMEZONE:Europe/Madrid
BEGIN:VEVENT
SUMMARY:ACTE INAUGURACIÓ exposició: 'Parelles'. Coordinada per Mercè Soler, Fidel Soler i Teodor Borràs.
DTSTART;TZID=Europe/Madrid;VALUE=DATE-TIME:20240524T180000
DTEND;TZID=Europe/Madrid;VALUE=DATE-TIME:20240524T190000
DTSTAMP;VALUE=DATE-TIME:20260424T042513Z
UID:e1d98febacb26ec775b9cb91b5483ad7
CREATED;VALUE=DATE-TIME:20240524T000000Z
CATEGORIES:Exposició,Festa
LOCATION:Biblioteca Can Milans - C/ Esglèsia, 6
ORGANIZER:Biblioteca Can Milans i Ajuntament de Caldes d'Estrac
COMMENT:Preu: Gratuït
DESCRIPTION:Presentació del projecte i pica-pica.
URL:https://caldetes.cat/document.php?id=9916
END:VEVENT
END:VCALENDAR