BEGIN:VCALENDAR
VERSION:2.0
PRODID:-//Plone.org//NONSGML plone.app.event//EN
X-WR-TIMEZONE:Europe/Madrid
BEGIN:VEVENT
SUMMARY:CICLE DE PONÈNCIES: Història musical dels Beatles. Amb Josep Arañó.
DTSTART;TZID=Europe/Madrid;VALUE=DATE-TIME:20240527T173000
DTEND;TZID=Europe/Madrid;VALUE=DATE-TIME:20240527T183000
DTSTAMP;VALUE=DATE-TIME:20260422T030909Z
UID:e9e75463495c45622793b5c7dd34bced
CREATED;VALUE=DATE-TIME:20240527T000000Z
CATEGORIES:Cursos,Música,Conferència
LOCATION:Biblioteca Can Milans - C/ Esglèsia, 6
ORGANIZER:Biblioteca Can Milans i Ajuntament de Caldes d'Estrac
COMMENT:Preu: Gratuït
DESCRIPTION:Sessió 2
URL:https://caldetes.cat/document.php?id=9917
END:VEVENT
END:VCALENDAR