BEGIN:VCALENDAR
VERSION:2.0
PRODID:-//Plone.org//NONSGML plone.app.event//EN
X-WR-TIMEZONE:Europe/Madrid
BEGIN:VEVENT
SUMMARY:Exposició &OpenCurlyQuote;Maria Sanmartí, &OpenCurlyDoubleQuote;mare d´en Clavé&CloseCurlyDoubleQuote;. La innocència del traç´
DTSTART;TZID=Europe/Madrid;VALUE=DATE-TIME:20240519T120000
DTEND;TZID=Europe/Madrid;VALUE=DATE-TIME:20240519T130000
DTSTAMP;VALUE=DATE-TIME:20260421T043221Z
UID:5c132b672719196250bf13b6bff99de0
CREATED;VALUE=DATE-TIME:20240519T000000Z
CATEGORIES:Exposició
LOCATION:Fundació Palau - La Riera, 54
ORGANIZER:Fundació Palau
COMMENT:Preu: 8&euro;
Durada: 1h
DESCRIPTION:Visita guiada
URL:https://caldetes.cat/document.php?id=9944
END:VEVENT
END:VCALENDAR