BEGIN:VCALENDAR
VERSION:2.0
PRODID:-//Plone.org//NONSGML plone.app.event//EN
X-WR-TIMEZONE:Europe/Madrid
BEGIN:VEVENT
SUMMARY:Taller de Música en família
DTSTART;TZID=Europe/Madrid;VALUE=DATE-TIME:20240604T170000
DTEND;TZID=Europe/Madrid;VALUE=DATE-TIME:20240604T180000
DTSTAMP;VALUE=DATE-TIME:20260423T074738Z
UID:e50b914e87c3e0354ac222fbc21e1759
CREATED;VALUE=DATE-TIME:20240604T000000Z
CATEGORIES:Infantils,Música
LOCATION:Escola Bressol - Carrer Mestre Joan Barber s/n
COMMENT:Preu: Gratuït
URL:https://caldetes.cat/document.php?id=9958
END:VEVENT
END:VCALENDAR