BEGIN:VCALENDAR
VERSION:2.0
PRODID:-//Plone.org//NONSGML plone.app.event//EN
X-WR-TIMEZONE:Europe/Madrid
BEGIN:VEVENT
SUMMARY:Taller de Música en família
DTSTART;TZID=Europe/Madrid;VALUE=DATE-TIME:20240514T170000
DTEND;TZID=Europe/Madrid;VALUE=DATE-TIME:20240514T180000
DTSTAMP;VALUE=DATE-TIME:20260421T070628Z
UID:6a3018caf9d2f0f79168f2b8695b5fc1
CREATED;VALUE=DATE-TIME:20240514T000000Z
LOCATION:Escola Bressol - Carrer Mestre Joan Barber s/n
COMMENT:Preu: Gratuït
URL:https://caldetes.cat/document.php?id=9959
END:VEVENT
END:VCALENDAR