BEGIN:VCALENDAR
VERSION:2.0
PRODID:-//Plone.org//NONSGML plone.app.event//EN
X-WR-TIMEZONE:Europe/Madrid
BEGIN:VEVENT
SUMMARY:Taller de Música en família
DTSTART;TZID=Europe/Madrid;VALUE=DATE-TIME:20240521T170000
DTEND;TZID=Europe/Madrid;VALUE=DATE-TIME:20240521T180000
DTSTAMP;VALUE=DATE-TIME:20260422T130938Z
UID:d25b50e4bc216800cd04393072ea344f
CREATED;VALUE=DATE-TIME:20240521T000000Z
CATEGORIES:Infantils,Música
LOCATION:Escola Bressol - Carrer Mestre Joan Barber s/n
COMMENT:Preu: Gratuït
DESCRIPTION:La música ens ajuda a relacionar-nos i a compartir.
URL:https://caldetes.cat/document.php?id=9960
END:VEVENT
END:VCALENDAR